BEGIN:VCALENDAR
VERSION:2.0
CALSCALE:GREGORIAN
BEGIN:VEVENT
DTSTART;TZID=Europe/Berlin:20240313T143000
DTEND;TZID=Europe/Berlin:20240314T000000
SUMMARY:Computer science colloquium
DESCRIPTION:Astronomical data from all over the world to Saxony\: on the way to the German Center for Astrophysics
END:VEVENT
END:VCALENDAR