BEGIN:VCALENDAR
VERSION:2.0
CALSCALE:GREGORIAN
BEGIN:VEVENT
DTSTART;TZID=Europe/Berlin:20260422T180000
DTEND;TZID=Europe/Berlin:20260423T000000
SUMMARY:Nearby. A utopia of the small town?
DESCRIPTION:(East German) small towns between past and future\: Simon Strauß in conversation
END:VEVENT
END:VCALENDAR