BEGIN:VCALENDAR
VERSION:2.0
CALSCALE:GREGORIAN
BEGIN:VEVENT
DTSTART;TZID=Europe/Berlin:20241011T090000
DTEND;TZID=Europe/Berlin:20241013T000000
SUMMARY:Impulse workshop project management / team development
DESCRIPTION:With the SysTeamsProject simulation game\, we bring project management to life. In addition to project management tools\, you will also learn how to deal with group dynamic processes.
END:VEVENT
END:VCALENDAR