BEGIN:VCALENDAR
VERSION:2.0
CALSCALE:GREGORIAN
BEGIN:VEVENT
DTSTART;TZID=Europe/Berlin:20260420T173000
DTEND;TZID=Europe/Berlin:20260428T000000
SUMMARY:On the playing field of ideas\: With ease to creative flashes of inspiration
DESCRIPTION:Discover innovative ways to develop creative ideas.
END:VEVENT
END:VCALENDAR