BEGIN:VCALENDAR
VERSION:2.0
CALSCALE:GREGORIAN
BEGIN:VEVENT
DTSTART;TZID=Europe/Berlin:20230608T100000
DTEND;TZID=Europe/Berlin:20230609T000000
SUMMARY:Start-up workshop\: Making videos easy
DESCRIPTION:#idea development #basics #video #editing #sound
END:VEVENT
END:VCALENDAR