BEGIN:VCALENDAR
VERSION:2.0
CALSCALE:GREGORIAN
BEGIN:VEVENT
DTSTART;TZID=Europe/Berlin:20230111T100000
DTEND;TZID=Europe/Berlin:20230112T000000
SUMMARY:Start-up workshop\: Market and test
DESCRIPTION:#Market test #Prototyping #Minimumviableproduct
END:VEVENT
END:VCALENDAR