BEGIN:VCALENDAR
VERSION:2.0
CALSCALE:GREGORIAN
BEGIN:VEVENT
DTSTART;TZID=Europe/Berlin:20230706T090000
DTEND;TZID=Europe/Berlin:20230707T000000
SUMMARY:Foundation workshop\: Stay in touch
DESCRIPTION:#Press #SocialMedia #Print #ÖA #Communitymanagement
END:VEVENT
END:VCALENDAR