BEGIN:VCALENDAR
VERSION:2.0
CALSCALE:GREGORIAN
BEGIN:VEVENT
DTSTART;TZID=Europe/Berlin:20241115T140000
DTEND;TZID=Europe/Berlin:20241117T000000
SUMMARY:&quot;Crossing borders&quot;
DESCRIPTION:Junior Researchers&#039; Conference of the Society for Urban History and Urbanization Research (GSU)
END:VEVENT
END:VCALENDAR