BEGIN:VCALENDAR
VERSION:2.0
CALSCALE:GREGORIAN
BEGIN:VEVENT
DTSTART;TZID=Europe/Berlin:20230421T160000
DTEND;TZID=Europe/Berlin:20230422T000000
SUMMARY:Görlitz Kinder Academy\: How do I govern a city? Who governs a city?
DESCRIPTION:
END:VEVENT
END:VCALENDAR