BEGIN:VCALENDAR
VERSION:2.0
CALSCALE:GREGORIAN
BEGIN:VEVENT
DTSTART;TZID=Europe/Berlin:20241025T160000
DTEND;TZID=Europe/Berlin:20241026T000000
SUMMARY:Görlitz Kinder Academy\: What does a horse do on an airplane?
DESCRIPTION:About my trip with wild horses to Kazakhstan\, Dr. Annette Klein\, Tierpark Berlin-Friedrichsfelde
END:VEVENT
END:VCALENDAR