BEGIN:VCALENDAR
VERSION:2.0
CALSCALE:GREGORIAN
BEGIN:VEVENT
DTSTART;TZID=Europe/Berlin:20250124T160000
DTEND;TZID=Europe/Berlin:20250125T000000
SUMMARY:Görlitz Kinder Academy\: Sun\, moon\, stars and meteorites!
DESCRIPTION:
END:VEVENT
END:VCALENDAR