BEGIN:VCALENDAR
VERSION:2.0
CALSCALE:GREGORIAN
BEGIN:VEVENT
DTSTART;TZID=Europe/Berlin:20221007T160000
DTEND;TZID=Europe/Berlin:20221008T000000
SUMMARY:Görlitz Kinder Academy\: Organization is everything - the fascinating life in the ant colony
DESCRIPTION:
END:VEVENT
END:VCALENDAR