BEGIN:VCALENDAR
VERSION:2.0
CALSCALE:GREGORIAN
BEGIN:VEVENT
DTSTART;TZID=Europe/Berlin:20241122T160000
DTEND;TZID=Europe/Berlin:20241123T000000
SUMMARY:Görlitz Kinder Academy\: Was the mountain spirit Karkonosz really alive?
DESCRIPTION:
END:VEVENT
END:VCALENDAR