BEGIN:VCALENDAR
VERSION:2.0
CALSCALE:GREGORIAN
BEGIN:VEVENT
DTSTART;TZID=Europe/Berlin:20230203T160000
DTEND;TZID=Europe/Berlin:20230204T000000
SUMMARY:Görlitz Kinder Academy\: Görli and Gregorek. A fabulous love affair with cats on the Neisse.
DESCRIPTION:
END:VEVENT
END:VCALENDAR