BEGIN:VCALENDAR
VERSION:2.0
CALSCALE:GREGORIAN
BEGIN:VEVENT
DTSTART;TZID=Europe/Berlin:20230922T160000
DTEND;TZID=Europe/Berlin:20230923T000000
SUMMARY:Görlitz Kinder Academy\: Researchers look deep underground into the sky?
DESCRIPTION:
END:VEVENT
END:VCALENDAR