BEGIN:VCALENDAR
VERSION:2.0
CALSCALE:GREGORIAN
BEGIN:VEVENT
DTSTART;TZID=Europe/Berlin:20240412T160000
DTEND;TZID=Europe/Berlin:20240413T000000
SUMMARY:Görlitz Kinder Academy\: Rattling snakes\, colorful perches and mini crocodiles - how do you care for exotic animals?
DESCRIPTION:
END:VEVENT
END:VCALENDAR