BEGIN:VCALENDAR
VERSION:2.0
CALSCALE:GREGORIAN
BEGIN:VEVENT
DTSTART;TZID=Europe/Berlin:20230609T160000
DTEND;TZID=Europe/Berlin:20230610T000000
SUMMARY:Görlitz Kinder Academy\: Really wrong! How are virtual worlds created?
DESCRIPTION:
END:VEVENT
END:VCALENDAR