BEGIN:VCALENDAR
VERSION:2.0
CALSCALE:GREGORIAN
BEGIN:VEVENT
DTSTART;TZID=Europe/Berlin:20231208T160000
DTEND;TZID=Europe/Berlin:20231209T000000
SUMMARY:Görlitz Kinder Academy\: Science adventure - measuring and researching in the Greenland ice sheet
DESCRIPTION:
END:VEVENT
END:VCALENDAR