BEGIN:VCALENDAR
VERSION:2.0
CALSCALE:GREGORIAN
BEGIN:VEVENT
DTSTART;TZID=Europe/Berlin:20230706T083000
DTEND;TZID=Europe/Berlin:20230707T000000
SUMMARY:&quot;It&#039;s about to explode!&quot; - Recognizing and resolving conflicts in teaching
DESCRIPTION:The continuing education program addresses the causes and forms of conflicts and focuses on how to deal with them in lectures\, seminars and consultations.
END:VEVENT
END:VCALENDAR