BEGIN:VCALENDAR
VERSION:2.0
CALSCALE:GREGORIAN
BEGIN:VEVENT
DTSTART;TZID=Europe/Berlin:20250123T143000
DTEND;TZID=Europe/Berlin:20250124T000000
SUMMARY:Industrial property rights - trademark law
DESCRIPTION:This event will provide you with valuable information on trademark protection and trademark forms.
END:VEVENT
END:VCALENDAR