BEGIN:VCALENDAR
VERSION:2.0
CALSCALE:GREGORIAN
BEGIN:VEVENT
DTSTART;TZID=Europe/Berlin:20230712T180000
DTEND;TZID=Europe/Berlin:20230714T000000
SUMMARY:Societal transformation. (Not) a meaningful approach to analyzing social change (in Eastern Europe)?
DESCRIPTION:Keynote speech by Prof. Dr. Raj Kollmorgen at the Cultural Studies Europe Colloquium of the Viadrina Institute for European Studies
END:VEVENT
END:VCALENDAR