BEGIN:VCALENDAR
VERSION:2.0
CALSCALE:GREGORIAN
BEGIN:VEVENT
DTSTART;TZID=Europe/Berlin:20220616T143000
DTEND;TZID=Europe/Berlin:20220617T000000
SUMMARY:Business model innovations and storytelling (hybrid)
DESCRIPTION:As part of the impulse workshop\, you will innovate your business model and develop your elevator pitch.
END:VEVENT
END:VCALENDAR