BEGIN:VCALENDAR
VERSION:2.0
CALSCALE:GREGORIAN
BEGIN:VEVENT
DTSTART;TZID=Europe/Berlin:20230504T090000
DTEND;TZID=Europe/Berlin:20230505T000000
SUMMARY:Gender sensitivity in academic teaching
DESCRIPTION:The content of the course is aimed at teachers who want to integrate gender-sensitive didactics more extensively into the teaching content and practice of their courses.
END:VEVENT
END:VCALENDAR