BEGIN:VCALENDAR
VERSION:2.0
CALSCALE:GREGORIAN
BEGIN:VEVENT
DTSTART;TZID=Europe/Berlin:20220908T100000
DTEND;TZID=Europe/Berlin:20220909T000000
SUMMARY:GAP workshop
DESCRIPTION:Your perspective is needed\: Discuss the research findings of the GAP research group and help develop recommendations for action!
END:VEVENT
END:VCALENDAR