BEGIN:VCALENDAR
VERSION:2.0
CALSCALE:GREGORIAN
BEGIN:VEVENT
DTSTART;TZID=Europe/Berlin:20230503T150000
DTEND;TZID=Europe/Berlin:20230503T000000
SUMMARY:Gamification in university teaching - possibilities and limits of Lego Serious Play
DESCRIPTION:This short online workshop shows you the possibilities and challenges of gamification for your own teaching\, especially with Lego Serious Play.
END:VEVENT
END:VCALENDAR