BEGIN:VCALENDAR
VERSION:2.0
CALSCALE:GREGORIAN
BEGIN:VEVENT
DTSTART;TZID=Europe/Berlin:20240807T140000
DTEND;TZID=Europe/Berlin:20240808T000000
SUMMARY:Peace. Joy. Bicycle tour
DESCRIPTION:&quot;F for power&quot; invites you to cycle together.
END:VEVENT
END:VCALENDAR