BEGIN:VCALENDAR
VERSION:2.0
CALSCALE:GREGORIAN
BEGIN:VEVENT
DTSTART;TZID=Europe/Berlin:20231115T104400
DTEND;TZID=Europe/Berlin:20231118T000000
SUMMARY:Social Planning Forum
DESCRIPTION:Prof. Mandy Schulze and Cordula Lasner-Tietze at the Social Planning Forum of the German Association for Public and Private Welfare (Deutscher Verein für öffentliche und private Fürsorge e.V.)
END:VEVENT
END:VCALENDAR