BEGIN:VCALENDAR
VERSION:2.0
CALSCALE:GREGORIAN
BEGIN:VEVENT
DTSTART;TZID=Europe/Berlin:20230524T170000
DTEND;TZID=Europe/Berlin:20230525T000000
SUMMARY:Colors on the Umgebindehaus
DESCRIPTION:Lecture evening on the subject of &quot;Colors on the Umgebindehaus&quot; at the Zittau/Görlitz University of Applied Sciences
END:VEVENT
END:VCALENDAR