BEGIN:VCALENDAR
VERSION:2.0
CALSCALE:GREGORIAN
BEGIN:VEVENT
DTSTART;TZID=Europe/Berlin:20191009T160000
DTEND;TZID=Europe/Berlin:20191010T000000
SUMMARY:Opening of the Science Year 2019/2020
DESCRIPTION:Man\, machine! Opening of the Year of Science on the topic of &quot;Artificial Intelligence&quot;
END:VEVENT
END:VCALENDAR