BEGIN:VCALENDAR
VERSION:2.0
CALSCALE:GREGORIAN
BEGIN:VEVENT
DTSTART;TZID=Europe/Berlin:20260520T140000
DTEND;TZID=Europe/Berlin:20260521T000000
SUMMARY:Electrical engineering colloquium &quot;EMC simply explained\: basics and relevance&quot;
DESCRIPTION:
END:VEVENT
END:VCALENDAR