BEGIN:VCALENDAR
VERSION:2.0
CALSCALE:GREGORIAN
BEGIN:VEVENT
DTSTART;TZID=Europe/Berlin:20240423T130000
DTEND;TZID=Europe/Berlin:20240424T000000
SUMMARY:Introduction to literature research and research consultations
DESCRIPTION:New series of events in the University Library
END:VEVENT
END:VCALENDAR