BEGIN:VCALENDAR
VERSION:2.0
CALSCALE:GREGORIAN
BEGIN:VEVENT
DTSTART;TZID=Europe/Berlin:20221221T161500
DTEND;TZID=Europe/Berlin:20221222T000000
SUMMARY:Own and external representations of the Herrnhut Mission in missionary publications at the beginning of the 20th century
DESCRIPTION:
END:VEVENT
END:VCALENDAR