BEGIN:VCALENDAR
VERSION:2.0
CALSCALE:GREGORIAN
BEGIN:VEVENT
DTSTART;TZID=Europe/Berlin:20240422T140000
DTEND;TZID=Europe/Berlin:20240423T000000
SUMMARY:Earth Day - Swap party and SDG workshop
DESCRIPTION:
END:VEVENT
END:VCALENDAR