BEGIN:VCALENDAR
VERSION:2.0
CALSCALE:GREGORIAN
BEGIN:VEVENT
DTSTART;TZID=Europe/Berlin:20250202T093000
DTEND;TZID=Europe/Berlin:20250429T000000
SUMMARY:Digital Workspace (for teachers)\: Designing and integrating e-assessments\: Tips and tools for teachers
DESCRIPTION:Designing e-assessments in a didactically targeted manner and implementing them technically is often a challenge for teachers. In the workspace\, participants receive tips on practical implementation\, a variety of practice-oriented impulses and space to try things out.
END:VEVENT
END:VCALENDAR