BEGIN:VCALENDAR
VERSION:2.0
CALSCALE:GREGORIAN
BEGIN:VEVENT
DTSTART;TZID=Europe/Berlin:20241028T080000
DTEND;TZID=Europe/Berlin:20250116T000000
SUMMARY:&quot;The art of technical drawing&quot;
DESCRIPTION:The exhibition can be seen on the Zittau campus in House II until the end of mid-January.
END:VEVENT
END:VCALENDAR