BEGIN:VCALENDAR
VERSION:2.0
CALSCALE:GREGORIAN
BEGIN:VEVENT
DTSTART;TZID=Europe/Berlin:20221030T190000
DTEND;TZID=Europe/Berlin:20221031T000000
SUMMARY:Student ensemble\: guest performance &quot;History has us again&quot;
DESCRIPTION:
END:VEVENT
END:VCALENDAR