BEGIN:VCALENDAR
VERSION:2.0
CALSCALE:GREGORIAN
BEGIN:VEVENT
DTSTART;TZID=Europe/Berlin:20231212T180000
DTEND;TZID=Europe/Berlin:20231213T000000
SUMMARY:CANCELLED\: &quot;The dimensions of nursing as a science&quot; - lecture series
DESCRIPTION:Topic\: Human-centered assistance systems in home care
END:VEVENT
END:VCALENDAR