BEGIN:VCALENDAR
VERSION:2.0
CALSCALE:GREGORIAN
BEGIN:VEVENT
DTSTART;TZID=Europe/Berlin:20240507T180000
DTEND;TZID=Europe/Berlin:20240508T000000
SUMMARY:&quot;The dimensions of nursing as a science&quot; - lecture series
DESCRIPTION:Topic\: Nursing science and its contribution to patient-oriented care!
END:VEVENT
END:VCALENDAR