BEGIN:VCALENDAR
VERSION:2.0
CALSCALE:GREGORIAN
BEGIN:VEVENT
DTSTART;TZID=Europe/Berlin:20241126T180000
DTEND;TZID=Europe/Berlin:20241127T000000
SUMMARY:WILL BE POSTPONED! The dimensions of nursing as a science\: racism in nursing
DESCRIPTION:public-hybrid lecture series
END:VEVENT
END:VCALENDAR