BEGIN:VCALENDAR
VERSION:2.0
CALSCALE:GREGORIAN
BEGIN:VEVENT
DTSTART;TZID=Europe/Berlin:20230125T161500
DTEND;TZID=Europe/Berlin:20230126T000000
SUMMARY:Germany and Poland in Europe. Asymmetries of a neighborhood
DESCRIPTION:
END:VEVENT
END:VCALENDAR