BEGIN:VCALENDAR
VERSION:2.0
CALSCALE:GREGORIAN
BEGIN:VEVENT
DTSTART;TZID=Europe/Berlin:20241031T180000
DTEND;TZID=Europe/Berlin:20241102T000000
SUMMARY:German-French doctoral student studio
DESCRIPTION:&quot;Historical perspectives on firefighting in Upper Lusatia&quot; - a lecture by Cornelia Müller
END:VEVENT
END:VCALENDAR