BEGIN:VCALENDAR
VERSION:2.0
CALSCALE:GREGORIAN
BEGIN:VEVENT
DTSTART;TZID=Europe/Berlin:20241010T100000
DTEND;TZID=Europe/Berlin:20241012T000000
SUMMARY:The East as a model for success? New perspectives on social change in East Germany
DESCRIPTION:Conference at the Frankfurt University of Applied Sciences
END:VEVENT
END:VCALENDAR