BEGIN:VCALENDAR
VERSION:2.0
CALSCALE:GREGORIAN
BEGIN:VEVENT
DTSTART;TZID=Europe/Berlin:20260602T160000
DTEND;TZID=Europe/Berlin:20260603T000000
SUMMARY:Your money\, your life - Financial independence made easy
DESCRIPTION:With practical tips\, real examples and space for your questions
END:VEVENT
END:VCALENDAR