BEGIN:VCALENDAR
VERSION:2.0
CALSCALE:GREGORIAN
BEGIN:VEVENT
DTSTART;TZID=Europe/Berlin:20230428T150000
DTEND;TZID=Europe/Berlin:20230429T000000
SUMMARY:Zittau Kinder Academy\: Fascination
DESCRIPTION:Zittau Kinder Academy\: The fascination of flying. Prof. Dr.-Ing. Matthias Fichna\, Faculty of Business Administration and Engineering Management\, Peter-Dierich-Haus\, Lecture Hall 0.02
END:VEVENT
END:VCALENDAR