BEGIN:VCALENDAR
VERSION:2.0
CALSCALE:GREGORIAN
BEGIN:VEVENT
DTSTART;TZID=Europe/Berlin:20240606T180000
DTEND;TZID=Europe/Berlin:20240607T000000
SUMMARY:Care beyond borders\: Exploring impacts of migration\, displacement and inclusion for the care and nursing sector
DESCRIPTION:Dr. phil. Monique Ritter on &quot;Refugees in home care in East Germany\: New perspectives and mandates&quot;
END:VEVENT
END:VCALENDAR