BEGIN:VCALENDAR
VERSION:2.0
CALSCALE:GREGORIAN
BEGIN:VEVENT
DTSTART;TZID=Europe/Berlin:20230607T161500
DTEND;TZID=Europe/Berlin:20230608T000000
SUMMARY:SeniorenKolleg Görlitz\: Guest contribution to dies academicus and International Week
DESCRIPTION:Guest contribution to dies academicus and International Week (to be announced). In cooperation with lecturers and guest researchers at the Faculty of Managerial and Cultural Studies and the Studium fundamentale. Hermann-Heitkamp-Haus\, Lecture Hall G I / 1.01
END:VEVENT
END:VCALENDAR