BEGIN:VCALENDAR
VERSION:2.0
CALSCALE:GREGORIAN
BEGIN:VEVENT
DTSTART;TZID=Europe/Berlin:20230503T160000
DTEND;TZID=Europe/Berlin:20230504T000000
SUMMARY:SeniorenKolleg - On site in the region\: Quantum computing. Better computing with quantum resources
DESCRIPTION:Quantum computing. Better computing with quantum resources. Prof. Dr.-Ing. Jörg Lässig\, Faculty of Electrical Engineering and Computer Science&#039;\, HSZG. Event at the &quot;E-Werk&quot; Stadtwerke Weißwasser GmbH\, Str. des Friedens 13-19.
END:VEVENT
END:VCALENDAR