BEGIN:VCALENDAR
VERSION:2.0
CALSCALE:GREGORIAN
BEGIN:VEVENT
DTSTART;TZID=Europe/Berlin:20241008T143000
DTEND;TZID=Europe/Berlin:20250122T000000
SUMMARY:Student lecture\: Sustainable marketing in the digital age
DESCRIPTION:
END:VEVENT
END:VCALENDAR