BEGIN:VCALENDAR
VERSION:2.0
CALSCALE:GREGORIAN
BEGIN:VEVENT
DTSTART;TZID=Europe/Berlin:20240417T161500
DTEND;TZID=Europe/Berlin:20240418T000000
SUMMARY:The new spousal emergency representation law for health care
DESCRIPTION:Lecture event in Görlitz - students are cordially invited to attend.
END:VEVENT
END:VCALENDAR