BEGIN:VCALENDAR
VERSION:2.0
CALSCALE:GREGORIAN
BEGIN:VEVENT
DTSTART;TZID=Europe/Berlin:20240311T180000
DTEND;TZID=Europe/Berlin:20240312T000000
SUMMARY:3rd chemistry student academy on the topic\: Making atomic nuclei spin - elucidating the structure of organic compounds with NMR spectroscopy
DESCRIPTION:
END:VEVENT
END:VCALENDAR